BEGIN:VCALENDAR
VERSION:2.0
PRODID:-//wp-events-plugin.com//7.2.3.1//EN
TZID:Europe/Berlin
X-WR-TIMEZONE:Europe/Berlin
BEGIN:VEVENT
UID:50@unternehmerinnen-os.de
DTSTART;TZID=Europe/Berlin:20261207T183000
DTEND;TZID=Europe/Berlin:20261207T213000
DTSTAMP:20251201T164915Z
URL:https://www.unternehmerinnen-os.de/veranstaltungen/stammtisch-dezember
 -2026/
SUMMARY:Stammtisch Dezember 2026
DESCRIPTION:Weihnachten!
LOCATION:Vienna House Remarque\, Natruper-Tor-Wall 1\, Osnabrück\, Nieders
 achsen\, 49076\, Deutschland
X-APPLE-STRUCTURED-LOCATION;VALUE=URI;X-ADDRESS=Natruper-Tor-Wall 1\, Osnab
 rück\, Niedersachsen\, 49076\, Deutschland;X-APPLE-RADIUS=100;X-TITLE=Vie
 nna House Remarque:geo:0,0
END:VEVENT
BEGIN:VTIMEZONE
TZID:Europe/Berlin
X-LIC-LOCATION:Europe/Berlin
BEGIN:STANDARD
DTSTART:20261025T020000
TZOFFSETFROM:+0200
TZOFFSETTO:+0100
TZNAME:CET
END:STANDARD
END:VTIMEZONE
END:VCALENDAR