BEGIN:VCALENDAR
VERSION:2.0
PRODID:-//wp-events-plugin.com//7.2.3.1//EN
TZID:Europe/Berlin
X-WR-TIMEZONE:Europe/Berlin
BEGIN:VEVENT
UID:46@unternehmerinnen-os.de
DTSTART;TZID=Europe/Berlin:20260907T183000
DTEND;TZID=Europe/Berlin:20260907T213000
DTSTAMP:20260417T095250Z
URL:https://www.unternehmerinnen-os.de/veranstaltungen/stammtisch-septembe
 r-2026/
SUMMARY:Stammtisch September 2026
DESCRIPTION:Vortrag Martina Lukas-Nülle\, Pluserfolg\, "Busy im Business\,
  klar im Kopf. Erfolg ja – aber bitte mit dir selbst im Boot"
LOCATION:Vienna House Remarque\, Natruper-Tor-Wall 1\, Osnabrück\, Nieders
 achsen\, 49076\, Deutschland
X-APPLE-STRUCTURED-LOCATION;VALUE=URI;X-ADDRESS=Natruper-Tor-Wall 1\, Osnab
 rück\, Niedersachsen\, 49076\, Deutschland;X-APPLE-RADIUS=100;X-TITLE=Vie
 nna House Remarque:geo:0,0
END:VEVENT
BEGIN:VTIMEZONE
TZID:Europe/Berlin
X-LIC-LOCATION:Europe/Berlin
BEGIN:DAYLIGHT
DTSTART:20260329T030000
TZOFFSETFROM:+0100
TZOFFSETTO:+0200
TZNAME:CEST
END:DAYLIGHT
END:VTIMEZONE
END:VCALENDAR